BEGIN:VCALENDAR
VERSION:2.0
PRODID:-//Stadt-Garching//NONSGML v1.0//DE
CALSCALE:GREGORIAN
METHOD:PUBLISH
BEGIN:VEVENT
UID:69ed56f98dfd1
DTSTAMP:20260426T020617
ORGANIZER:Stadt Garching b. München
VENUE:Bürgerhaus
DTSTART:20230713T193000
DTEND:20230713T223000
SUMMARY:SOMMERKONZERT
DESCRIPTION:
END:VEVENT
END:VCALENDAR