BEGIN:VCALENDAR
VERSION:2.0
PRODID:-//Stadt-Garching//NONSGML v1.0//DE
CALSCALE:GREGORIAN
METHOD:PUBLISH
BEGIN:VEVENT
UID:69e8a6d592353
DTSTAMP:20260422T124541
ORGANIZER:- Kulturreferat - Stadt Garching
VENUE:Bürgerhaus
DTSTART:20250311T193000
DTEND:20250311T223000
SUMMARY:Zinner & Leonhardsberger: KAFFEE & BIER
DESCRIPTION:
END:VEVENT
END:VCALENDAR