BEGIN:VCALENDAR
VERSION:2.0
PRODID:-//Stadt-Garching//NONSGML v1.0//DE
CALSCALE:GREGORIAN
METHOD:PUBLISH
BEGIN:VEVENT
UID:69ed67394826b
DTSTAMP:20260426T031537
ORGANIZER:- Kulturreferat - Stadt Garching
VENUE:Bürgerhaus
DTSTART:20250709T193000
DTEND:20250709T220000
SUMMARY:Garchinger Sinfonieorchester: SOMMERKONZERT
DESCRIPTION:
END:VEVENT
END:VCALENDAR